BEGIN:VCALENDAR
VERSION:2.0
PRODID:-//Les archers de Carpiquet - ECPv6.15.20//NONSGML v1.0//EN
CALSCALE:GREGORIAN
METHOD:PUBLISH
X-WR-CALNAME:Les archers de Carpiquet
X-ORIGINAL-URL:https://archer-carpiquet.fr
X-WR-CALDESC:Évènements pour Les archers de Carpiquet
REFRESH-INTERVAL;VALUE=DURATION:PT1H
X-Robots-Tag:noindex
X-PUBLISHED-TTL:PT1H
BEGIN:VTIMEZONE
TZID:Europe/Paris
BEGIN:DAYLIGHT
TZOFFSETFROM:+0100
TZOFFSETTO:+0200
TZNAME:CEST
DTSTART:20250330T010000
END:DAYLIGHT
BEGIN:STANDARD
TZOFFSETFROM:+0200
TZOFFSETTO:+0100
TZNAME:CET
DTSTART:20251026T010000
END:STANDARD
BEGIN:DAYLIGHT
TZOFFSETFROM:+0100
TZOFFSETTO:+0200
TZNAME:CEST
DTSTART:20260329T010000
END:DAYLIGHT
BEGIN:STANDARD
TZOFFSETFROM:+0200
TZOFFSETTO:+0100
TZNAME:CET
DTSTART:20261025T010000
END:STANDARD
BEGIN:DAYLIGHT
TZOFFSETFROM:+0100
TZOFFSETTO:+0200
TZNAME:CEST
DTSTART:20270328T010000
END:DAYLIGHT
BEGIN:STANDARD
TZOFFSETFROM:+0200
TZOFFSETTO:+0100
TZNAME:CET
DTSTART:20271031T010000
END:STANDARD
END:VTIMEZONE
BEGIN:VEVENT
DTSTART;TZID=Europe/Paris:20260627T080000
DTEND;TZID=Europe/Paris:20260629T170000
DTSTAMP:20260419T180642
CREATED:20260419T092402Z
LAST-MODIFIED:20260419T092402Z
UID:6645-1782547200-1782752400@archer-carpiquet.fr
SUMMARY:Championnat de France para TAE
DESCRIPTION:
URL:https://archer-carpiquet.fr/event/championnat-de-france-para-tae/
LOCATION:Complexe sportif Wilfrid Lemarois\, Route de Caumont\, Carpiquet\, France
CATEGORIES:Compétition sur quota
END:VEVENT
END:VCALENDAR 